BEGIN:VCALENDAR
VERSION:2.0
PRODID:-//3nity.com//3nity CMS//EN
BEGIN:VEVENT
SUMMARY:May 3, 2026 Mother's Day Tea
UID:2026-07-18-1217479@grosvenorbaptistchurch.org
SEQUENCE:0
STATUS:CONFIRMED
DTSTART:20260503T130000
DTEND:20260503T140000
DTSTAMP:20161222T120000
DESCRIPTION:Mother's Day Tea - All invited
URL:http://grosvenorbaptistchurch.org
END:VEVENT
END:VCALENDAR
